Workbook
Name MKTG_CASH_MATCH: Worksheet!#REF!
Name MKTG_GRANT_FUNDS: Worksheet!#REF!
Name MKTG_IN_KIND_MATCH: Worksheet!#REF!
Name OFSO_CASH_MATCH: Worksheet!$C$19:$C$21
Name OFSO_GRANT_FUNDS: Worksheet!$B$19:$B$21
Name OFSO_IN_KIND_MATCH: Worksheet!$D$19:$D$21
Name OFSP_CASH_MATCH: Worksheet!$C$12:$C$14
Name OFSP_GRANT_FUNDS: Worksheet!$B$12:$B$14
Name OFSP_IN_KIND_MATCH: Worksheet!$D$12:$D$14
Name PA_CASH_MATCH: Worksheet!$C$5:$C$7
Name PA_GRANT_FUNDS: Worksheet!$B$5:$B$7
Name PA_IN_KIND_MATCH: Worksheet!$D$5:$D$7
Name PP_CASH_MATCH: Worksheet!#REF!
Name PP_GRANT_FUNDS: Worksheet!#REF!
Name PP_IN_KIND_MATCH: Worksheet!#REF!
Name PT_CASH_MATCH: Worksheet!#REF!
Name PT_GRANT_FUNDS: Worksheet!#REF!
Name PT_IN_KIND_MATCH: Worksheet!#REF!
Name RPE_CASH_MATCH: Worksheet!$C$62:$C$64
Name RPE_GRANT_FUNDS: Worksheet!$B$62:$B$64
Name RPE_IN_KIND_MATCH: Worksheet!$D$62:$D$64
Name SR_CASH_MATCH: Worksheet!#REF!
Name SR_GRANT_FUNDS: Worksheet!#REF!
Name SR_IN_KIND_MATCH: Worksheet!#REF!
Name TVL_CASH_MATCH: Worksheet!$C$54:$C$56
Name TVL_GRANT_FUNDS: Worksheet!$B$54:$B$56
Name TVL_IN_KIND_MATCH: Worksheet!$D$54:$D$56

Sheet Summary
A1: Project Title
A2: Project Organization
A3: Project Contact
A5: Detailed Description of Budget
A6: Analysis of Total Estimated Costs | D6: Estimated Cost | E6: Percent of Total
A7: 1 | B7: Advertising/Promotional Material | D7: =Worksheet!E8 -> 0
A8: 2 | B8: Art/Signage | D8: =Worksheet!E15 -> 0
A9: 3 | B9: Building Improvements | D9: =Worksheet!E22 -> 0
A10: 4 | B10: Equipment | D10: =Worksheet!E29 -> 0
A11: 5 | B11: Benches/Seating | D11: =Worksheet!E36 -> 0
A12: 6 | B12: Construction Materials | D12: =Worksheet!E43 -> 0
A13: 7 | B13: Placemaking Improvements | D13: =Worksheet!E50 -> 0
A14: 8 | B14: Supplies | D14: =Worksheet!E57 -> 0
A15: 9 | B15: Other Direct Costs | D15: =Worksheet!E65 -> 0
C16: Total: | D16: =SUM(D7:D15) -> 0
C17: Kansas Department of Commerce Share: | D17: [Insert]
C18: Match: | D18: [Insert]
A21: Match Source
A22: Type | B22: Source | C22: Amount
A23: Cash Match
A24: 1
A25: 2
A26: In-Kind Match
A27: 1
A28: 2
A29: Total

Sheet Worksheet
A1: PROPOSED EXPENSES
A2: 1. Grant funds – these are the funds you are requesting from the state 2. Cash match – these are cash expenses that are expended from funds earned or raised by your organization 3. In-kind – this is the value of donated goods and services that are contributed to your organization
A3: 1.1 Advertising/Promotional Material
A4: DESCRIPTION | B4: GRANT FUNDS | C4: CASH MATCH | D4: IN-KIND MATCH | E4: Total
E5: =SUM(B5:D5) -> 0
E6: =SUM(B6:D6) -> 0 | F6: Add rows as needed.
E7: =SUM(B7:D7) -> 0
A8: Advertising/Promotional Material Totals | B8: =SUM(PA_GRANT_FUNDS) -> 0 | C8: =SUM(PA_CASH_MATCH) -> 0 | D8: =SUM(PA_IN_KIND_MATCH) -> 0 | E8: =SUM(B8:D8) -> 0
A10: 1.2 Art/Signage
A11: DESCRIPTION | B11: GRANT FUNDS | C11: CASH MATCH | D11: IN-KIND MATCH | E11: Total
E12: =SUM(B12:D12) -> 0
E13: =SUM(B13:D13) -> 0 | F13: Add rows as needed.
E14: =SUM(B14:D14) -> 0
A15: Art/Signage Totals | B15: =SUM(OFSP_GRANT_FUNDS) -> 0 | C15: =SUM(OFSP_CASH_MATCH) -> 0 | D15: =SUM(OFSP_IN_KIND_MATCH) -> 0 | E15: =SUM(B15:D15) -> 0
A17: 1.3 Building Improvements
A18: DESCRIPTION | B18: GRANT FUNDS | C18: CASH MATCH | D18: IN-KIND MATCH | E18: Total
E19: =SUM(B19:D19) -> 0
E20: =SUM(B20:D20) -> 0 | F20: Add rows as needed.
E21: =SUM(B21:D21) -> 0
A22: Building Improvements Totals | B22: =SUM(OFSO_GRANT_FUNDS) -> 0 | C22: =SUM(OFSO_CASH_MATCH) -> 0 | D22: =SUM(OFSO_IN_KIND_MATCH) -> 0 | E22: =SUM(B22:D22) -> 0
A24: 1.4 Equipment
A25: DESCRIPTION | B25: GRANT FUNDS | C25: CASH MATCH | D25: IN-KIND MATCH | E25: Total
E26: =SUM(B26:D26) -> 0
E27: =SUM(B27:D27) -> 0
E28: =SUM(B28:D28) -> 0
A29: Equipment Totals | B29: =SUM(OFSO_GRANT_FUNDS) -> 0 | C29: =SUM(OFSO_CASH_MATCH) -> 0 | D29: =SUM(OFSO_IN_KIND_MATCH) -> 0 | E29: =SUM(B29:D29) -> 0
A31: 1.5 Benches/Seating
A32: DESCRIPTION | B32: GRANT FUNDS | C32: CASH MATCH | D32: IN-KIND MATCH | E32: Total
E33: =SUM(B33:D33) -> 0
E34: =SUM(B34:D34) -> 0
E35: =SUM(B35:D35) -> 0
A36: Benches/Seating Totals | B36: =SUM(OFSO_GRANT_FUNDS) -> 0 | C36: =SUM(OFSO_CASH_MATCH) -> 0 | D36: =SUM(OFSO_IN_KIND_MATCH) -> 0 | E36: =SUM(B36:D36) -> 0
A38: 1.6 Construction Materials
A39: DESCRIPTION | B39: GRANT FUNDS | C39: CASH MATCH | D39: IN-KIND MATCH | E39: Total
E40: =SUM(B40:D40) -> 0
E41: =SUM(B41:D41) -> 0
E42: =SUM(B42:D42) -> 0
A43: Construction Materials Totals | B43: =SUM(OFSO_GRANT_FUNDS) -> 0 | C43: =SUM(OFSO_CASH_MATCH) -> 0 | D43: =SUM(OFSO_IN_KIND_MATCH) -> 0 | E43: =SUM(B43:D43) -> 0
A45: 1.7 Placemaking Improvements
A46: DESCRIPTION | B46: GRANT FUNDS | C46: CASH MATCH | D46: IN-KIND MATCH | E46: Total
...
